BEGIN:VCALENDAR
VERSION:2.0
PRODID:-//Next Generation Manufacturing - ECPv6.15.16//NONSGML v1.0//EN
CALSCALE:GREGORIAN
METHOD:PUBLISH
X-WR-CALNAME:Next Generation Manufacturing
X-ORIGINAL-URL:https://nextgenerationmfg.org
X-WR-CALDESC:Events for Next Generation Manufacturing
REFRESH-INTERVAL;VALUE=DURATION:PT1H
X-Robots-Tag:noindex
X-PUBLISHED-TTL:PT1H
BEGIN:VTIMEZONE
TZID:America/New_York
BEGIN:DAYLIGHT
TZOFFSETFROM:-0500
TZOFFSETTO:-0400
TZNAME:EDT
DTSTART:20240310T070000
END:DAYLIGHT
BEGIN:STANDARD
TZOFFSETFROM:-0400
TZOFFSETTO:-0500
TZNAME:EST
DTSTART:20241103T060000
END:STANDARD
BEGIN:DAYLIGHT
TZOFFSETFROM:-0500
TZOFFSETTO:-0400
TZNAME:EDT
DTSTART:20250309T070000
END:DAYLIGHT
BEGIN:STANDARD
TZOFFSETFROM:-0400
TZOFFSETTO:-0500
TZNAME:EST
DTSTART:20251102T060000
END:STANDARD
BEGIN:DAYLIGHT
TZOFFSETFROM:-0500
TZOFFSETTO:-0400
TZNAME:EDT
DTSTART:20260308T070000
END:DAYLIGHT
BEGIN:STANDARD
TZOFFSETFROM:-0400
TZOFFSETTO:-0500
TZNAME:EST
DTSTART:20261101T060000
END:STANDARD
END:VTIMEZONE
BEGIN:VEVENT
DTSTART;TZID=America/New_York:20250129T160000
DTEND;TZID=America/New_York:20250129T190000
DTSTAMP:20260424T082626
CREATED:20241030T205301Z
LAST-MODIFIED:20250129T133447Z
UID:1224-1738166400-1738177200@nextgenerationmfg.org
SUMMARY:The Mixology of Markets: Wine\, Cocktails & Global Trends
DESCRIPTION:This event is at capacity.  Unfortunately we are unable to accept onsite registrations. \n\n\n\nManufacturing executives are invited to join Next Generation Manufacturing for a unique event\, hosted at the new Aprio offices in Atlanta\, GA\, blending international economic insights\, manufacturing\, wine & cocktail wisdom\, all in the company of manufacturing leaders like yourself. \n\n\n\nEvent highlights: \n\n\n\n\nSimeon Wallis\, Chief Investment Officer\, Aprio discussing economic trends & insights of four countries influential/impactful to US manufacturing: Germany\, Japan\, Korea and Australia.\n\n\n\n\n\nAmy Moreau\, Wine Specialist and Owner\, Talk of the Table\, will introduce signature wines and cocktails from each highlighted country\, guiding attendees through their unique qualities and cultural significance.\n\n\n\n\n\nAmbassador Miloslav Stasek\, Ambassador of the Czech Republic to the United States will share economic insights of the Czech Republic.\n\n\n\n\n\nVeronika Wills Spevakova\, Owner of Wills International\, Importer of Czech wine from Spevak Winery in Moravia\, Czech Republic\, presents wines from a small\, family-owned winery\, founded on the philosophy that a good quality wine is born in the vineyard\, not the winery.\n\n\n\n\n\nCzech wine tasting is supported by: Monika Vintrlikova\,CEO\, ALBAform & Honoray Consul General Czech Republic.\n\n\n\n\nConnect with peers and industry executives\, forging meaningful relationships that could shape the future of your business.
URL:https://nextgenerationmfg.org/event/the-mixology-of-markets-wine-cocktails-global-trends/
END:VEVENT
END:VCALENDAR