BEGIN:VCALENDAR
VERSION:2.0
PRODID:-//Next Generation Manufacturing - ECPv6.15.16//NONSGML v1.0//EN
CALSCALE:GREGORIAN
METHOD:PUBLISH
X-ORIGINAL-URL:https://nextgenerationmfg.org
X-WR-CALDESC:Events for Next Generation Manufacturing
REFRESH-INTERVAL;VALUE=DURATION:PT1H
X-Robots-Tag:noindex
X-PUBLISHED-TTL:PT1H
BEGIN:VTIMEZONE
TZID:America/New_York
BEGIN:DAYLIGHT
TZOFFSETFROM:-0500
TZOFFSETTO:-0400
TZNAME:EDT
DTSTART:20250309T070000
END:DAYLIGHT
BEGIN:STANDARD
TZOFFSETFROM:-0400
TZOFFSETTO:-0500
TZNAME:EST
DTSTART:20251102T060000
END:STANDARD
BEGIN:DAYLIGHT
TZOFFSETFROM:-0500
TZOFFSETTO:-0400
TZNAME:EDT
DTSTART:20260308T070000
END:DAYLIGHT
BEGIN:STANDARD
TZOFFSETFROM:-0400
TZOFFSETTO:-0500
TZNAME:EST
DTSTART:20261101T060000
END:STANDARD
BEGIN:DAYLIGHT
TZOFFSETFROM:-0500
TZOFFSETTO:-0400
TZNAME:EDT
DTSTART:20270314T070000
END:DAYLIGHT
BEGIN:STANDARD
TZOFFSETFROM:-0400
TZOFFSETTO:-0500
TZNAME:EST
DTSTART:20271107T060000
END:STANDARD
END:VTIMEZONE
BEGIN:VEVENT
DTSTART;TZID=America/New_York:20260415T090000
DTEND;TZID=America/New_York:20260415T130000
DTSTAMP:20260424T081619
CREATED:20260218T194321Z
LAST-MODIFIED:20260413T134127Z
UID:1433-1776243600-1776258000@nextgenerationmfg.org
SUMMARY:Health & Safety for Manufacturers Discussion / Hoshizaki Facility Tour
DESCRIPTION:This event has reached capacity – we hope to see you at another Next Generation Manufacturing event! \n\n\n\n\n\nManufacturers are invited to join Next Generation Manufacturing and the Fayette Chamber of Commerce for a tour of the Hoshizaki manufacturing facility in Peachtree City\, GA and a Health & Safety discussion for manufacturers! \n\n\n\nVisit the REGISTRATION page for full event info.
URL:https://nextgenerationmfg.org/event/health-safety-for-manufacturers-discussion-hoshizaki-facility-tour/
ORGANIZER;CN="Regina Maddox":MAILTO:Regina.maddox@nextgenerationmfg.com
END:VEVENT
END:VCALENDAR