BEGIN:VCALENDAR
VERSION:2.0
PRODID:-//Next Generation Manufacturing - ECPv6.15.16//NONSGML v1.0//EN
CALSCALE:GREGORIAN
METHOD:PUBLISH
X-ORIGINAL-URL:https://nextgenerationmfg.org
X-WR-CALDESC:Events for Next Generation Manufacturing
REFRESH-INTERVAL;VALUE=DURATION:PT1H
X-Robots-Tag:noindex
X-PUBLISHED-TTL:PT1H
BEGIN:VTIMEZONE
TZID:America/New_York
BEGIN:DAYLIGHT
TZOFFSETFROM:-0500
TZOFFSETTO:-0400
TZNAME:EDT
DTSTART:20250309T070000
END:DAYLIGHT
BEGIN:STANDARD
TZOFFSETFROM:-0400
TZOFFSETTO:-0500
TZNAME:EST
DTSTART:20251102T060000
END:STANDARD
BEGIN:DAYLIGHT
TZOFFSETFROM:-0500
TZOFFSETTO:-0400
TZNAME:EDT
DTSTART:20260308T070000
END:DAYLIGHT
BEGIN:STANDARD
TZOFFSETFROM:-0400
TZOFFSETTO:-0500
TZNAME:EST
DTSTART:20261101T060000
END:STANDARD
BEGIN:DAYLIGHT
TZOFFSETFROM:-0500
TZOFFSETTO:-0400
TZNAME:EDT
DTSTART:20270314T070000
END:DAYLIGHT
BEGIN:STANDARD
TZOFFSETFROM:-0400
TZOFFSETTO:-0500
TZNAME:EST
DTSTART:20271107T060000
END:STANDARD
END:VTIMEZONE
BEGIN:VEVENT
DTSTART;TZID=America/New_York:20260813T013000
DTEND;TZID=America/New_York:20260813T183000
DTSTAMP:20260424T043909
CREATED:20260423T164910Z
LAST-MODIFIED:20260423T185748Z
UID:1455-1786584600-1786645800@nextgenerationmfg.org
SUMMARY:11th Annual Success in Manufacturing; The Woman's Perspective Event
DESCRIPTION:Celebrate progress and gain fresh insights at the 11th Annual “Success in Manufacturing: The Woman’s Perspective.” \n\n\n\nThis isn’t just an event; it’s a powerhouse gathering of leaders dedicated to the future of the industry. Whether you are a woman navigating your career or a male ally supporting diverse leadership\, this afternoon is designed to inspire. \n\n\n\n💡 Why Attend? \n\n\n\n\nImpactful Speakerss: Hear from female trailblazers across small\, medium\, and large global manufacturing firms.\n\n\n\nReal Stories: Gain firsthand lessons on industry navigation and career growth.\n\n\n\nHigh-Value Networking: Build connections with top-tier peers in the manufacturing industry. \n\n\n\n\nAnnounced speakers include:Stephanie Beck\, CEO\, Heritage PalletsIngrid Cruz\, General Manager\, World EmblemJennifer Fease\, Vice President\, Deputy General Counsel\, Acuity BrandsKatie Fisher\, Chief Technology Officer\, Vero BiotechAndrea Hines\, Continuous Improvement & Regulatory Compliance Manager\, MANA NutritionLavina Moss\, Senior Vice President\, Human Resources\, Miller ZellKatrina Singletary\, Government Affairs & Marketing Manager\, PBS AerospaceSharita Spruil\, Director of Talent Acquistion\, Southwire \n\n\n\nAdditional speakers announced weekly! \n\n\n\nRegistration is open to executives\, directors and senior managers of manufacturing companies.Registration opens May 1st!
URL:https://nextgenerationmfg.org/event/11th-annual-success-in-manufacturing-the-womans-perspective-event/
LOCATION:Nelson Mullins\, Atlanta\, Georgia\, United States
ORGANIZER;CN="Regina Maddox":MAILTO:Regina.maddox@nextgenerationmfg.com
END:VEVENT
END:VCALENDAR